BEGIN:VCALENDAR
VERSION:2.0
PRODID:-//Montessori School of Manhattan Beach - ECPv6.15.11//NONSGML v1.0//EN
CALSCALE:GREGORIAN
METHOD:PUBLISH
X-ORIGINAL-URL:https://www.montessorimb.com
X-WR-CALDESC:Events for Montessori School of Manhattan Beach
REFRESH-INTERVAL;VALUE=DURATION:PT1H
X-Robots-Tag:noindex
X-PUBLISHED-TTL:PT1H
BEGIN:VTIMEZONE
TZID:America/Los_Angeles
BEGIN:DAYLIGHT
TZOFFSETFROM:-0800
TZOFFSETTO:-0700
TZNAME:PDT
DTSTART:20180311T100000
END:DAYLIGHT
BEGIN:STANDARD
TZOFFSETFROM:-0700
TZOFFSETTO:-0800
TZNAME:PST
DTSTART:20181104T090000
END:STANDARD
BEGIN:DAYLIGHT
TZOFFSETFROM:-0800
TZOFFSETTO:-0700
TZNAME:PDT
DTSTART:20190310T100000
END:DAYLIGHT
BEGIN:STANDARD
TZOFFSETFROM:-0700
TZOFFSETTO:-0800
TZNAME:PST
DTSTART:20191103T090000
END:STANDARD
BEGIN:DAYLIGHT
TZOFFSETFROM:-0800
TZOFFSETTO:-0700
TZNAME:PDT
DTSTART:20200308T100000
END:DAYLIGHT
BEGIN:STANDARD
TZOFFSETFROM:-0700
TZOFFSETTO:-0800
TZNAME:PST
DTSTART:20201101T090000
END:STANDARD
END:VTIMEZONE
BEGIN:VEVENT
DTSTART;TZID=America/Los_Angeles:20191016T183000
DTEND;TZID=America/Los_Angeles:20191016T193000
DTSTAMP:20260421T012458
CREATED:20190909T064210Z
LAST-MODIFIED:20190909T064210Z
UID:5062-1571250600-1571254200@www.montessorimb.com
SUMMARY:Open House
DESCRIPTION:
URL:https://www.montessorimb.com/event/open-house-2/
END:VEVENT
BEGIN:VEVENT
DTSTART;VALUE=DATE:20191016
DTEND;VALUE=DATE:20191017
DTSTAMP:20260421T012458
CREATED:20190920T035746Z
LAST-MODIFIED:20190920T035746Z
UID:5163-1571184000-1571270399@www.montessorimb.com
SUMMARY:Montessori Together Playgroup
DESCRIPTION:
URL:https://www.montessorimb.com/event/montessori-together-playgroup-3/
END:VEVENT
BEGIN:VEVENT
DTSTART;VALUE=DATE:20191015
DTEND;VALUE=DATE:20191019
DTSTAMP:20260421T012458
CREATED:20190920T041145Z
LAST-MODIFIED:20190920T041145Z
UID:5175-1571097600-1571443199@www.montessorimb.com
SUMMARY:Mrs. Nelson's Book Fair
DESCRIPTION:
URL:https://www.montessorimb.com/event/mrs-nelsons-book-fair/
END:VEVENT
BEGIN:VEVENT
DTSTART;VALUE=DATE:20191009
DTEND;VALUE=DATE:20191010
DTSTAMP:20260421T012458
CREATED:20190920T035422Z
LAST-MODIFIED:20190920T035422Z
UID:5161-1570579200-1570665599@www.montessorimb.com
SUMMARY:Montessori Together Playgroup
DESCRIPTION:
URL:https://www.montessorimb.com/event/montessori-together-playgroup-2/
END:VEVENT
BEGIN:VEVENT
DTSTART;VALUE=DATE:20191002
DTEND;VALUE=DATE:20191003
DTSTAMP:20260421T012458
CREATED:20190920T034916Z
LAST-MODIFIED:20190920T034916Z
UID:5159-1569974400-1570060799@www.montessorimb.com
SUMMARY:Montessori Together Playgroup
DESCRIPTION:
URL:https://www.montessorimb.com/event/montessori-together-playgroup/
END:VEVENT
BEGIN:VEVENT
DTSTART;VALUE=DATE:20190926
DTEND;VALUE=DATE:20190928
DTSTAMP:20260421T012458
CREATED:20190909T064113Z
LAST-MODIFIED:20190909T064113Z
UID:5060-1569456000-1569628799@www.montessorimb.com
SUMMARY:Picture Day Bell
DESCRIPTION:
URL:https://www.montessorimb.com/event/picture-day-bell-2/
CATEGORIES:BELL CAMPUS
END:VEVENT
BEGIN:VEVENT
DTSTART;VALUE=DATE:20190924
DTEND;VALUE=DATE:20190926
DTSTAMP:20260421T012458
CREATED:20190909T064034Z
LAST-MODIFIED:20190909T064044Z
UID:5058-1569283200-1569455999@www.montessorimb.com
SUMMARY:Picture Day Peck
DESCRIPTION:
URL:https://www.montessorimb.com/event/picture-day-peck-2/
CATEGORIES:PECK CAMPUS
END:VEVENT
BEGIN:VEVENT
DTSTART;VALUE=DATE:20190904
DTEND;VALUE=DATE:20190905
DTSTAMP:20260421T012458
CREATED:20190909T064002Z
LAST-MODIFIED:20190909T064002Z
UID:5056-1567555200-1567641599@www.montessorimb.com
SUMMARY:First Day of School
DESCRIPTION:
URL:https://www.montessorimb.com/event/first-day-of-school-2/
END:VEVENT
BEGIN:VEVENT
DTSTART;VALUE=DATE:20190903
DTEND;VALUE=DATE:20190904
DTSTAMP:20260421T012458
CREATED:20190909T063936Z
LAST-MODIFIED:20190909T063936Z
UID:5054-1567468800-1567555199@www.montessorimb.com
SUMMARY:Teacher In-Service Day*
DESCRIPTION:
URL:https://www.montessorimb.com/event/teacher-in-service-day-2/
END:VEVENT
BEGIN:VEVENT
DTSTART;VALUE=DATE:20190902
DTEND;VALUE=DATE:20190903
DTSTAMP:20260421T012458
CREATED:20190909T063904Z
LAST-MODIFIED:20190909T063904Z
UID:5052-1567382400-1567468799@www.montessorimb.com
SUMMARY:Labor Day *
DESCRIPTION:
URL:https://www.montessorimb.com/event/labor-day-2/
END:VEVENT
BEGIN:VEVENT
DTSTART;VALUE=DATE:20190823
DTEND;VALUE=DATE:20190824
DTSTAMP:20260421T012458
CREATED:20190617T095727Z
LAST-MODIFIED:20190617T095727Z
UID:4983-1566518400-1566604799@www.montessorimb.com
SUMMARY:Concert in the Park with Mr. B
DESCRIPTION:
URL:https://www.montessorimb.com/event/concert-in-the-park-with-mr-b-2/
CATEGORIES:BELL CAMPUS
END:VEVENT
BEGIN:VEVENT
DTSTART;VALUE=DATE:20190822
DTEND;VALUE=DATE:20190823
DTSTAMP:20260421T012458
CREATED:20190617T094244Z
LAST-MODIFIED:20190617T094244Z
UID:4950-1566432000-1566518399@www.montessorimb.com
SUMMARY:Soccer
DESCRIPTION:
URL:https://www.montessorimb.com/event/soccer-9/
CATEGORIES:PECK CAMPUS
END:VEVENT
BEGIN:VEVENT
DTSTART;VALUE=DATE:20190822
DTEND;VALUE=DATE:20190823
DTSTAMP:20260421T012458
CREATED:20190617T094136Z
LAST-MODIFIED:20190617T094136Z
UID:4951-1566432000-1566518399@www.montessorimb.com
SUMMARY:Spanish
DESCRIPTION:
URL:https://www.montessorimb.com/event/spanish-11/
CATEGORIES:PECK CAMPUS
END:VEVENT
BEGIN:VEVENT
DTSTART;VALUE=DATE:20190822
DTEND;VALUE=DATE:20190823
DTSTAMP:20260421T012458
CREATED:20190617T094103Z
LAST-MODIFIED:20190617T094103Z
UID:4949-1566432000-1566518399@www.montessorimb.com
SUMMARY:Concert in the Park with Mr. B
DESCRIPTION:
URL:https://www.montessorimb.com/event/concert-in-the-park-with-mr-b/
CATEGORIES:PECK CAMPUS
END:VEVENT
BEGIN:VEVENT
DTSTART;VALUE=DATE:20190821
DTEND;VALUE=DATE:20190822
DTSTAMP:20260421T012458
CREATED:20190617T095434Z
LAST-MODIFIED:20190617T095434Z
UID:4969-1566345600-1566431999@www.montessorimb.com
SUMMARY:Soccer
DESCRIPTION:
URL:https://www.montessorimb.com/event/soccer-11/
CATEGORIES:PECK CAMPUS
END:VEVENT
BEGIN:VEVENT
DTSTART;VALUE=DATE:20190821
DTEND;VALUE=DATE:20190822
DTSTAMP:20260421T012458
CREATED:20190617T094049Z
LAST-MODIFIED:20190617T094049Z
UID:4955-1566345600-1566431999@www.montessorimb.com
SUMMARY:Music with  Mr. B
DESCRIPTION:
URL:https://www.montessorimb.com/event/music-with-mr-b-20/
CATEGORIES:PECK CAMPUS
END:VEVENT
BEGIN:VEVENT
DTSTART;VALUE=DATE:20190820
DTEND;VALUE=DATE:20190821
DTSTAMP:20260421T012458
CREATED:20190617T094725Z
LAST-MODIFIED:20190617T094725Z
UID:4968-1566259200-1566345599@www.montessorimb.com
SUMMARY:Spanish
DESCRIPTION:
URL:https://www.montessorimb.com/event/spanish-15/
CATEGORIES:BELL CAMPUS
END:VEVENT
BEGIN:VEVENT
DTSTART;VALUE=DATE:20190820
DTEND;VALUE=DATE:20190821
DTSTAMP:20260421T012458
CREATED:20190617T094027Z
LAST-MODIFIED:20190617T094027Z
UID:4947-1566259200-1566345599@www.montessorimb.com
SUMMARY:Soccer
DESCRIPTION:
URL:https://www.montessorimb.com/event/soccer-8/
CATEGORIES:PECK CAMPUS
END:VEVENT
BEGIN:VEVENT
DTSTART;VALUE=DATE:20190819
DTEND;VALUE=DATE:20190820
DTSTAMP:20260421T012458
CREATED:20190617T094010Z
LAST-MODIFIED:20190617T094010Z
UID:4935-1566172800-1566259199@www.montessorimb.com
SUMMARY:Music with  Mr. B
DESCRIPTION:
URL:https://www.montessorimb.com/event/music-with-mr-b-19/
CATEGORIES:PECK CAMPUS
END:VEVENT
BEGIN:VEVENT
DTSTART;VALUE=DATE:20190816
DTEND;VALUE=DATE:20190817
DTSTAMP:20260421T012458
CREATED:20190617T094646Z
LAST-MODIFIED:20190617T094646Z
UID:4967-1565913600-1565999999@www.montessorimb.com
SUMMARY:Music with  Mr. B
DESCRIPTION:
URL:https://www.montessorimb.com/event/music-with-mr-b-22/
CATEGORIES:BELL CAMPUS
END:VEVENT
BEGIN:VEVENT
DTSTART;VALUE=DATE:20190816
DTEND;VALUE=DATE:20190817
DTSTAMP:20260421T012458
CREATED:20190617T094559Z
LAST-MODIFIED:20190617T094559Z
UID:4966-1565913600-1565999999@www.montessorimb.com
SUMMARY:Water Play
DESCRIPTION:
URL:https://www.montessorimb.com/event/water-play-8/
CATEGORIES:BELL CAMPUS
END:VEVENT
BEGIN:VEVENT
DTSTART;VALUE=DATE:20190816
DTEND;VALUE=DATE:20190817
DTSTAMP:20260421T012458
CREATED:20190617T093955Z
LAST-MODIFIED:20190617T093955Z
UID:4934-1565913600-1565999999@www.montessorimb.com
SUMMARY:Water Play
DESCRIPTION:
URL:https://www.montessorimb.com/event/water-play-6/
CATEGORIES:PECK CAMPUS
END:VEVENT
BEGIN:VEVENT
DTSTART;VALUE=DATE:20190815
DTEND;VALUE=DATE:20190816
DTSTAMP:20260421T012458
CREATED:20190617T093941Z
LAST-MODIFIED:20190617T093941Z
UID:4943-1565827200-1565913599@www.montessorimb.com
SUMMARY:Spanish
DESCRIPTION:
URL:https://www.montessorimb.com/event/spanish-10/
CATEGORIES:PECK CAMPUS
END:VEVENT
BEGIN:VEVENT
DTSTART;VALUE=DATE:20190815
DTEND;VALUE=DATE:20190816
DTSTAMP:20260421T012458
CREATED:20190617T093930Z
LAST-MODIFIED:20190617T093930Z
UID:4933-1565827200-1565913599@www.montessorimb.com
SUMMARY:Tennis
DESCRIPTION:
URL:https://www.montessorimb.com/event/tennis-10/
CATEGORIES:PECK CAMPUS
END:VEVENT
BEGIN:VEVENT
DTSTART;VALUE=DATE:20190814
DTEND;VALUE=DATE:20190815
DTSTAMP:20260421T012458
CREATED:20190617T094525Z
LAST-MODIFIED:20190617T094525Z
UID:4977-1565740800-1565827199@www.montessorimb.com
SUMMARY:Tennis
DESCRIPTION:
URL:https://www.montessorimb.com/event/tennis-12/
CATEGORIES:BELL CAMPUS
END:VEVENT
BEGIN:VEVENT
DTSTART;VALUE=DATE:20190814
DTEND;VALUE=DATE:20190815
DTSTAMP:20260421T012458
CREATED:20190617T093714Z
LAST-MODIFIED:20190617T093714Z
UID:4932-1565740800-1565827199@www.montessorimb.com
SUMMARY:Music with  Mr. B
DESCRIPTION:
URL:https://www.montessorimb.com/event/music-with-mr-b-18/
CATEGORIES:PECK CAMPUS
END:VEVENT
BEGIN:VEVENT
DTSTART;VALUE=DATE:20190813
DTEND;VALUE=DATE:20190814
DTSTAMP:20260421T012458
CREATED:20190617T094439Z
LAST-MODIFIED:20190617T094439Z
UID:4975-1565654400-1565740799@www.montessorimb.com
SUMMARY:Spanish
DESCRIPTION:
URL:https://www.montessorimb.com/event/spanish-14/
CATEGORIES:BELL CAMPUS
END:VEVENT
BEGIN:VEVENT
DTSTART;VALUE=DATE:20190813
DTEND;VALUE=DATE:20190814
DTSTAMP:20260421T012458
CREATED:20190617T093652Z
LAST-MODIFIED:20190617T093652Z
UID:4931-1565654400-1565740799@www.montessorimb.com
SUMMARY:Tennis
DESCRIPTION:
URL:https://www.montessorimb.com/event/tennis-9/
CATEGORIES:PECK CAMPUS
END:VEVENT
BEGIN:VEVENT
DTSTART;VALUE=DATE:20190812
DTEND;VALUE=DATE:20190813
DTSTAMP:20260421T012458
CREATED:20190617T093636Z
LAST-MODIFIED:20190617T093636Z
UID:4930-1565568000-1565654399@www.montessorimb.com
SUMMARY:Music with  Mr. B
DESCRIPTION:
URL:https://www.montessorimb.com/event/music-with-mr-b-17/
CATEGORIES:PECK CAMPUS
END:VEVENT
BEGIN:VEVENT
DTSTART;TZID=America/Los_Angeles:20190809T093000
DTEND;TZID=America/Los_Angeles:20190809T103000
DTSTAMP:20260421T012458
CREATED:20190617T093609Z
LAST-MODIFIED:20190617T093609Z
UID:4929-1565343000-1565346600@www.montessorimb.com
SUMMARY:Mobile Zoo
DESCRIPTION:
URL:https://www.montessorimb.com/event/mobile-zoo/
CATEGORIES:PECK CAMPUS
END:VEVENT
END:VCALENDAR