BEGIN:VCALENDAR
VERSION:2.0
PRODID:-//Montessori School of Manhattan Beach - ECPv6.15.11//NONSGML v1.0//EN
CALSCALE:GREGORIAN
METHOD:PUBLISH
X-ORIGINAL-URL:https://www.montessorimb.com
X-WR-CALDESC:Events for Montessori School of Manhattan Beach
REFRESH-INTERVAL;VALUE=DURATION:PT1H
X-Robots-Tag:noindex
X-PUBLISHED-TTL:PT1H
BEGIN:VTIMEZONE
TZID:America/Los_Angeles
BEGIN:DAYLIGHT
TZOFFSETFROM:-0800
TZOFFSETTO:-0700
TZNAME:PDT
DTSTART:20180311T100000
END:DAYLIGHT
BEGIN:STANDARD
TZOFFSETFROM:-0700
TZOFFSETTO:-0800
TZNAME:PST
DTSTART:20181104T090000
END:STANDARD
BEGIN:DAYLIGHT
TZOFFSETFROM:-0800
TZOFFSETTO:-0700
TZNAME:PDT
DTSTART:20190310T100000
END:DAYLIGHT
BEGIN:STANDARD
TZOFFSETFROM:-0700
TZOFFSETTO:-0800
TZNAME:PST
DTSTART:20191103T090000
END:STANDARD
BEGIN:DAYLIGHT
TZOFFSETFROM:-0800
TZOFFSETTO:-0700
TZNAME:PDT
DTSTART:20200308T100000
END:DAYLIGHT
BEGIN:STANDARD
TZOFFSETFROM:-0700
TZOFFSETTO:-0800
TZNAME:PST
DTSTART:20201101T090000
END:STANDARD
END:VTIMEZONE
BEGIN:VEVENT
DTSTART;VALUE=DATE:20190711
DTEND;VALUE=DATE:20190712
DTSTAMP:20260421T043842
CREATED:20190617T084736Z
LAST-MODIFIED:20190617T085750Z
UID:4846-1562803200-1562889599@www.montessorimb.com
SUMMARY:Soccer
DESCRIPTION:
URL:https://www.montessorimb.com/event/soccer-2/
CATEGORIES:PECK CAMPUS
END:VEVENT
BEGIN:VEVENT
DTSTART;VALUE=DATE:20190710
DTEND;VALUE=DATE:20190711
DTSTAMP:20260421T043842
CREATED:20190617T084712Z
LAST-MODIFIED:20190617T085755Z
UID:4844-1562716800-1562803199@www.montessorimb.com
SUMMARY:Music with  Mr. B
DESCRIPTION:
URL:https://www.montessorimb.com/event/music-with-mr-b-4/
CATEGORIES:PECK CAMPUS
END:VEVENT
BEGIN:VEVENT
DTSTART;VALUE=DATE:20190709
DTEND;VALUE=DATE:20190710
DTSTAMP:20260421T043842
CREATED:20190617T084653Z
LAST-MODIFIED:20190617T085759Z
UID:4842-1562630400-1562716799@www.montessorimb.com
SUMMARY:Soccer
DESCRIPTION:
URL:https://www.montessorimb.com/event/soccer/
CATEGORIES:PECK CAMPUS
END:VEVENT
BEGIN:VEVENT
DTSTART;VALUE=DATE:20190708
DTEND;VALUE=DATE:20190709
DTSTAMP:20260421T043842
CREATED:20190617T084640Z
LAST-MODIFIED:20190617T085803Z
UID:4840-1562544000-1562630399@www.montessorimb.com
SUMMARY:Music with  Mr. B
DESCRIPTION:
URL:https://www.montessorimb.com/event/music-with-mr-b-3/
CATEGORIES:PECK CAMPUS
END:VEVENT
BEGIN:VEVENT
DTSTART;VALUE=DATE:20190705
DTEND;VALUE=DATE:20190706
DTSTAMP:20260421T043842
CREATED:20190617T084624Z
LAST-MODIFIED:20190617T085808Z
UID:4838-1562284800-1562371199@www.montessorimb.com
SUMMARY:Water Play
DESCRIPTION:
URL:https://www.montessorimb.com/event/water-play/
CATEGORIES:PECK CAMPUS
END:VEVENT
BEGIN:VEVENT
DTSTART;VALUE=DATE:20190705
DTEND;VALUE=DATE:20190706
DTSTAMP:20260421T043842
CREATED:20190617T084613Z
LAST-MODIFIED:20190617T085813Z
UID:4836-1562284800-1562371199@www.montessorimb.com
SUMMARY:Tennis
DESCRIPTION:
URL:https://www.montessorimb.com/event/tennis-2/
CATEGORIES:PECK CAMPUS
END:VEVENT
BEGIN:VEVENT
DTSTART;VALUE=DATE:20190704
DTEND;VALUE=DATE:20190705
DTSTAMP:20260421T043842
CREATED:20190617T084550Z
LAST-MODIFIED:20190617T085818Z
UID:4834-1562198400-1562284799@www.montessorimb.com
SUMMARY:Closed
DESCRIPTION:
URL:https://www.montessorimb.com/event/closed/
CATEGORIES:PECK CAMPUS
END:VEVENT
BEGIN:VEVENT
DTSTART;VALUE=DATE:20190703
DTEND;VALUE=DATE:20190704
DTSTAMP:20260421T043842
CREATED:20190617T084537Z
LAST-MODIFIED:20190617T085823Z
UID:4832-1562112000-1562198399@www.montessorimb.com
SUMMARY:Music with  Mr. B
DESCRIPTION:
URL:https://www.montessorimb.com/event/music-with-mr-b-2/
CATEGORIES:PECK CAMPUS
END:VEVENT
BEGIN:VEVENT
DTSTART;VALUE=DATE:20190702
DTEND;VALUE=DATE:20190703
DTSTAMP:20260421T043842
CREATED:20190617T084500Z
LAST-MODIFIED:20190617T085827Z
UID:4830-1562025600-1562111999@www.montessorimb.com
SUMMARY:Tennis
DESCRIPTION:
URL:https://www.montessorimb.com/event/tennis/
CATEGORIES:PECK CAMPUS
END:VEVENT
BEGIN:VEVENT
DTSTART;VALUE=DATE:20190701
DTEND;VALUE=DATE:20190702
DTSTAMP:20260421T043842
CREATED:20190617T084338Z
LAST-MODIFIED:20190617T085831Z
UID:4828-1561939200-1562025599@www.montessorimb.com
SUMMARY:Music with  Mr. B
DESCRIPTION:
URL:https://www.montessorimb.com/event/music-with-mr-b/
CATEGORIES:PECK CAMPUS
END:VEVENT
END:VCALENDAR