BEGIN:VCALENDAR
VERSION:2.0
PRODID:-//Montessori School of Manhattan Beach - ECPv6.15.11//NONSGML v1.0//EN
CALSCALE:GREGORIAN
METHOD:PUBLISH
X-WR-CALNAME:Montessori School of Manhattan Beach
X-ORIGINAL-URL:https://www.montessorimb.com
X-WR-CALDESC:Events for Montessori School of Manhattan Beach
REFRESH-INTERVAL;VALUE=DURATION:PT1H
X-Robots-Tag:noindex
X-PUBLISHED-TTL:PT1H
BEGIN:VTIMEZONE
TZID:America/Los_Angeles
BEGIN:DAYLIGHT
TZOFFSETFROM:-0800
TZOFFSETTO:-0700
TZNAME:PDT
DTSTART:20180311T100000
END:DAYLIGHT
BEGIN:STANDARD
TZOFFSETFROM:-0700
TZOFFSETTO:-0800
TZNAME:PST
DTSTART:20181104T090000
END:STANDARD
BEGIN:DAYLIGHT
TZOFFSETFROM:-0800
TZOFFSETTO:-0700
TZNAME:PDT
DTSTART:20190310T100000
END:DAYLIGHT
BEGIN:STANDARD
TZOFFSETFROM:-0700
TZOFFSETTO:-0800
TZNAME:PST
DTSTART:20191103T090000
END:STANDARD
BEGIN:DAYLIGHT
TZOFFSETFROM:-0800
TZOFFSETTO:-0700
TZNAME:PDT
DTSTART:20200308T100000
END:DAYLIGHT
BEGIN:STANDARD
TZOFFSETFROM:-0700
TZOFFSETTO:-0800
TZNAME:PST
DTSTART:20201101T090000
END:STANDARD
END:VTIMEZONE
BEGIN:VEVENT
DTSTART;VALUE=DATE:20190806
DTEND;VALUE=DATE:20190807
DTSTAMP:20260421T083654
CREATED:20190617T094344Z
LAST-MODIFIED:20190617T094344Z
UID:4963-1565049600-1565135999@www.montessorimb.com
SUMMARY:Spanish
DESCRIPTION:
URL:https://www.montessorimb.com/event/spanish-13/
CATEGORIES:BELL CAMPUS
END:VEVENT
BEGIN:VEVENT
DTSTART;TZID=America/Los_Angeles:20190805T093000
DTEND;TZID=America/Los_Angeles:20190805T170000
DTSTAMP:20260421T083654
CREATED:20190617T094327Z
LAST-MODIFIED:20190617T094327Z
UID:4970-1564997400-1565024400@www.montessorimb.com
SUMMARY:Mobile Zoo
DESCRIPTION:
URL:https://www.montessorimb.com/event/mobile-zoo-2/
CATEGORIES:BELL CAMPUS
END:VEVENT
BEGIN:VEVENT
DTSTART;VALUE=DATE:20190802
DTEND;VALUE=DATE:20190803
DTSTAMP:20260421T083654
CREATED:20190617T094236Z
LAST-MODIFIED:20190617T094236Z
UID:4954-1564704000-1564790399@www.montessorimb.com
SUMMARY:Water Play
DESCRIPTION:
URL:https://www.montessorimb.com/event/water-play-7/
CATEGORIES:BELL CAMPUS
END:VEVENT
BEGIN:VEVENT
DTSTART;VALUE=DATE:20190731
DTEND;VALUE=DATE:20190801
DTSTAMP:20260421T083654
CREATED:20190617T094216Z
LAST-MODIFIED:20190617T094216Z
UID:4953-1564531200-1564617599@www.montessorimb.com
SUMMARY:Tennis
DESCRIPTION:
URL:https://www.montessorimb.com/event/tennis-11/
CATEGORIES:BELL CAMPUS
END:VEVENT
BEGIN:VEVENT
DTSTART;VALUE=DATE:20190730
DTEND;VALUE=DATE:20190731
DTSTAMP:20260421T083654
CREATED:20190617T094206Z
LAST-MODIFIED:20190617T094206Z
UID:4952-1564444800-1564531199@www.montessorimb.com
SUMMARY:Spanish
DESCRIPTION:
URL:https://www.montessorimb.com/event/spanish-12/
CATEGORIES:BELL CAMPUS
END:VEVENT
BEGIN:VEVENT
DTSTART;VALUE=DATE:20190725
DTEND;VALUE=DATE:20190726
DTSTAMP:20260421T083654
CREATED:20190617T091654Z
LAST-MODIFIED:20190617T091654Z
UID:4907-1564012800-1564099199@www.montessorimb.com
SUMMARY:Futboleros
DESCRIPTION:
URL:https://www.montessorimb.com/event/futboleros-2/
CATEGORIES:BELL CAMPUS
END:VEVENT
BEGIN:VEVENT
DTSTART;VALUE=DATE:20190724
DTEND;VALUE=DATE:20190725
DTSTAMP:20260421T083654
CREATED:20190617T091636Z
LAST-MODIFIED:20190617T091636Z
UID:4905-1563926400-1564012799@www.montessorimb.com
SUMMARY:Soccer
DESCRIPTION:
URL:https://www.montessorimb.com/event/soccer-6/
CATEGORIES:BELL CAMPUS
END:VEVENT
BEGIN:VEVENT
DTSTART;VALUE=DATE:20190723
DTEND;VALUE=DATE:20190724
DTSTAMP:20260421T083654
CREATED:20190617T091620Z
LAST-MODIFIED:20190617T091620Z
UID:4903-1563840000-1563926399@www.montessorimb.com
SUMMARY:Spanish
DESCRIPTION:
URL:https://www.montessorimb.com/event/spanish-7/
CATEGORIES:BELL CAMPUS
END:VEVENT
BEGIN:VEVENT
DTSTART;VALUE=DATE:20190719
DTEND;VALUE=DATE:20190720
DTSTAMP:20260421T083654
CREATED:20190617T091608Z
LAST-MODIFIED:20190617T091608Z
UID:4901-1563494400-1563580799@www.montessorimb.com
SUMMARY:Music with  Mr. B
DESCRIPTION:
URL:https://www.montessorimb.com/event/music-with-mr-b-11/
CATEGORIES:BELL CAMPUS
END:VEVENT
BEGIN:VEVENT
DTSTART;VALUE=DATE:20190719
DTEND;VALUE=DATE:20190720
DTSTAMP:20260421T083654
CREATED:20190617T091550Z
LAST-MODIFIED:20190617T091550Z
UID:4899-1563494400-1563580799@www.montessorimb.com
SUMMARY:Water Play
DESCRIPTION:
URL:https://www.montessorimb.com/event/water-play-4/
CATEGORIES:BELL CAMPUS
END:VEVENT
BEGIN:VEVENT
DTSTART;VALUE=DATE:20190717
DTEND;VALUE=DATE:20190718
DTSTAMP:20260421T083654
CREATED:20190617T091535Z
LAST-MODIFIED:20190617T091535Z
UID:4897-1563321600-1563407999@www.montessorimb.com
SUMMARY:Tennis
DESCRIPTION:
URL:https://www.montessorimb.com/event/tennis-6/
CATEGORIES:BELL CAMPUS
END:VEVENT
BEGIN:VEVENT
DTSTART;VALUE=DATE:20190716
DTEND;VALUE=DATE:20190717
DTSTAMP:20260421T083654
CREATED:20190617T091519Z
LAST-MODIFIED:20190617T091519Z
UID:4895-1563235200-1563321599@www.montessorimb.com
SUMMARY:Spanish
DESCRIPTION:
URL:https://www.montessorimb.com/event/spanish-6/
CATEGORIES:BELL CAMPUS
END:VEVENT
BEGIN:VEVENT
DTSTART;VALUE=DATE:20190712
DTEND;VALUE=DATE:20190713
DTSTAMP:20260421T083654
CREATED:20190617T091506Z
LAST-MODIFIED:20190617T091506Z
UID:4893-1562889600-1562975999@www.montessorimb.com
SUMMARY:Music with  Mr. B
DESCRIPTION:
URL:https://www.montessorimb.com/event/music-with-mr-b-10/
CATEGORIES:BELL CAMPUS
END:VEVENT
BEGIN:VEVENT
DTSTART;VALUE=DATE:20190710
DTEND;VALUE=DATE:20190711
DTSTAMP:20260421T083654
CREATED:20190617T091451Z
LAST-MODIFIED:20190617T091451Z
UID:4891-1562716800-1562803199@www.montessorimb.com
SUMMARY:Soccer
DESCRIPTION:
URL:https://www.montessorimb.com/event/soccer-5/
CATEGORIES:BELL CAMPUS
END:VEVENT
BEGIN:VEVENT
DTSTART;VALUE=DATE:20190709
DTEND;VALUE=DATE:20190710
DTSTAMP:20260421T083654
CREATED:20190617T091432Z
LAST-MODIFIED:20190617T091432Z
UID:4889-1562630400-1562716799@www.montessorimb.com
SUMMARY:Spanish
DESCRIPTION:
URL:https://www.montessorimb.com/event/spanish-5/
CATEGORIES:BELL CAMPUS
END:VEVENT
BEGIN:VEVENT
DTSTART;VALUE=DATE:20190708
DTEND;VALUE=DATE:20190709
DTSTAMP:20260421T083654
CREATED:20190617T090835Z
LAST-MODIFIED:20190617T090835Z
UID:4887-1562544000-1562630399@www.montessorimb.com
SUMMARY:BubbleMania
DESCRIPTION:
URL:https://www.montessorimb.com/event/bubblemania-2/
CATEGORIES:BELL CAMPUS
END:VEVENT
BEGIN:VEVENT
DTSTART;VALUE=DATE:20190705
DTEND;VALUE=DATE:20190706
DTSTAMP:20260421T083654
CREATED:20190617T090318Z
LAST-MODIFIED:20190617T090318Z
UID:4885-1562284800-1562371199@www.montessorimb.com
SUMMARY:Music with  Mr. B
DESCRIPTION:
URL:https://www.montessorimb.com/event/music-with-mr-b-9/
CATEGORIES:BELL CAMPUS
END:VEVENT
BEGIN:VEVENT
DTSTART;VALUE=DATE:20190705
DTEND;VALUE=DATE:20190706
DTSTAMP:20260421T083654
CREATED:20190617T090305Z
LAST-MODIFIED:20190617T090305Z
UID:4883-1562284800-1562371199@www.montessorimb.com
SUMMARY:Water Play
DESCRIPTION:
URL:https://www.montessorimb.com/event/water-play-3/
CATEGORIES:BELL CAMPUS
END:VEVENT
BEGIN:VEVENT
DTSTART;VALUE=DATE:20190704
DTEND;VALUE=DATE:20190705
DTSTAMP:20260421T083654
CREATED:20190617T090248Z
LAST-MODIFIED:20190617T090248Z
UID:4881-1562198400-1562284799@www.montessorimb.com
SUMMARY:Closed
DESCRIPTION:
URL:https://www.montessorimb.com/event/closed-2/
CATEGORIES:BELL CAMPUS
END:VEVENT
BEGIN:VEVENT
DTSTART;VALUE=DATE:20190703
DTEND;VALUE=DATE:20190704
DTSTAMP:20260421T083654
CREATED:20190617T090235Z
LAST-MODIFIED:20190617T090235Z
UID:4879-1562112000-1562198399@www.montessorimb.com
SUMMARY:Tennis
DESCRIPTION:
URL:https://www.montessorimb.com/event/tennis-5/
CATEGORIES:BELL CAMPUS
END:VEVENT
BEGIN:VEVENT
DTSTART;VALUE=DATE:20190702
DTEND;VALUE=DATE:20190703
DTSTAMP:20260421T083654
CREATED:20190617T090128Z
LAST-MODIFIED:20190617T090128Z
UID:4877-1562025600-1562111999@www.montessorimb.com
SUMMARY:Spanish
DESCRIPTION:
URL:https://www.montessorimb.com/event/spanish-4/
CATEGORIES:BELL CAMPUS
END:VEVENT
END:VCALENDAR